BEGIN:VCALENDAR
VERSION:2.0
PRODID:-//Grimsby Community Energy - ECPv6.15.17.1//NONSGML v1.0//EN
CALSCALE:GREGORIAN
METHOD:PUBLISH
X-WR-CALNAME:Grimsby Community Energy
X-ORIGINAL-URL:https://grimsbycommunityenergy.coop
X-WR-CALDESC:Events for Grimsby Community Energy
REFRESH-INTERVAL;VALUE=DURATION:PT1H
X-Robots-Tag:noindex
X-PUBLISHED-TTL:PT1H
BEGIN:VTIMEZONE
TZID:UTC
BEGIN:STANDARD
TZOFFSETFROM:+0000
TZOFFSETTO:+0000
TZNAME:UTC
DTSTART:20230101T000000
END:STANDARD
END:VTIMEZONE
BEGIN:VEVENT
DTSTART;TZID=UTC:20240601T100000
DTEND;TZID=UTC:20240601T120000
DTSTAMP:20260420T094400
CREATED:20240509T110656Z
LAST-MODIFIED:20240529T124627Z
UID:1255-1717236000-1717243200@grimsbycommunityenergy.coop
SUMMARY:Member's Beach Clean
DESCRIPTION:Join Grimsby Community Energy and recent grantee The North Wall Cleaner Frank Sparkes for a member’s beach clean this June. \nWe would like up to 15 Members to join us on Saturday 1 June 2024 at 10am at the Cleethorpes Yacht Club Car Park (behind Humberston Fitties). \nWe will meet up with Frank and Vicky from Grimsby Community Energy and then make our way down to the beach. \nFollowing the beach clean we will meet for coffee/tea and cake at The Gingerbread House tea room\, Church Ln\, Humberston\, Grimsby DN36 4HZ. \n  \n \n  \n 
URL:https://grimsbycommunityenergy.coop/event/members-beach-clean/
LOCATION:Cleethorpes Yacht Club Car Park (behind Humberston Fitties)\, Cleethorpes\, North East Lincolnshire\, DN36 4HE\, United Kingdom
CATEGORIES:GCE Free Event
ATTACH;FMTTYPE=image/jpeg:https://grimsbycommunityenergy.coop/wp-content/uploads/2024/05/beach-clean-square.jpg
ORGANIZER;CN="Grimsby Community Energy":MAILTO:info@grimsbycommunityenergy.coop
END:VEVENT
END:VCALENDAR